BEGIN:VCALENDAR
VERSION:2.0
PRODID:-//Africa Expo&#039;s - Sip, Savor and Explore - ECPv6.15.20//NONSGML v1.0//EN
CALSCALE:GREGORIAN
METHOD:PUBLISH
X-ORIGINAL-URL:https://africa-expos.com
X-WR-CALDESC:Events for Africa Expo&#039;s - Sip, Savor and Explore
REFRESH-INTERVAL;VALUE=DURATION:PT1H
X-Robots-Tag:noindex
X-PUBLISHED-TTL:PT1H
BEGIN:VTIMEZONE
TZID:Africa/Johannesburg
BEGIN:STANDARD
TZOFFSETFROM:+0200
TZOFFSETTO:+0200
TZNAME:SAST
DTSTART:20240101T000000
END:STANDARD
END:VTIMEZONE
BEGIN:VEVENT
DTSTART;VALUE=DATE:20250530
DTEND;VALUE=DATE:20250601
DTSTAMP:20260422T045627
CREATED:20241111T114914Z
LAST-MODIFIED:20260116T111245Z
UID:17945-1748563200-1748735999@africa-expos.com
SUMMARY:30 - 31 May Zambia Wine Show
DESCRIPTION:Discover the world of wine at the Zambia Wine Show\, Lusaka’s premier event for wine enthusiasts and connoisseurs! This exciting expo invites you to explore a curated selection of exquisite wines from renowned vineyards across Africa and beyond. Whether you’re a seasoned wine lover or just beginning your journey\, the Lusaka Wine Expo offers an unforgettable experience in a vibrant\, welcoming atmosphere.
URL:https://africa-expos.com/event/30-31-may-zambia-wine-show/
CATEGORIES:Year 2025
ATTACH;FMTTYPE=image/jpeg:https://africa-expos.com/wp-content/uploads/2021/08/Lusaka-Wine-Show-2.jpg
ORGANIZER;CN="Africa Expos":MAILTO:Info@africa-expos.com
END:VEVENT
END:VCALENDAR