BEGIN:VCALENDAR
VERSION:2.0
PRODID:-//Africa Expo&#039;s - Sip, Savor and Explore - ECPv6.15.20//NONSGML v1.0//EN
CALSCALE:GREGORIAN
METHOD:PUBLISH
X-WR-CALNAME:Africa Expo&#039;s - Sip, Savor and Explore
X-ORIGINAL-URL:https://africa-expos.com
X-WR-CALDESC:Events for Africa Expo&#039;s - Sip, Savor and Explore
REFRESH-INTERVAL;VALUE=DURATION:PT1H
X-Robots-Tag:noindex
X-PUBLISHED-TTL:PT1H
BEGIN:VTIMEZONE
TZID:Africa/Johannesburg
BEGIN:STANDARD
TZOFFSETFROM:+0200
TZOFFSETTO:+0200
TZNAME:SAST
DTSTART:20250101T000000
END:STANDARD
END:VTIMEZONE
BEGIN:VEVENT
DTSTART;VALUE=DATE:20260515
DTEND;VALUE=DATE:20260517
DTSTAMP:20260421T162844
CREATED:20260116T090942Z
LAST-MODIFIED:20260127T132000Z
UID:20417-1778803200-1778975999@africa-expos.com
SUMMARY:15 -16 May 2026 Francistown Wine Show
DESCRIPTION:The Botswana Wine Experience is an exclusive annual event that brings the rich flavours of South African wines to the heart of Botswana. This event invites wine enthusiasts\, connoisseurs\, and newcomers alike to explore an extensive selection of South Africa’s finest wines. Attendees can enjoy curated wine tastings\, expert-led masterclasses and food pairings that highlight the distinct character of each wine region. The Botswana Wine Experience is a must-attend event for anyone looking to savor the diverse wines of South Africa in a relaxed and welcoming setting. \nRSVP
URL:https://africa-expos.com/event/15-16-may-2026-francistown-wine-show/
CATEGORIES:Year 2026
ATTACH;FMTTYPE=image/jpeg:https://africa-expos.com/wp-content/uploads/2026/01/Botswana-Wine-Show.jpg
ORGANIZER;CN="Africa Expos":MAILTO:Info@africa-expos.com
END:VEVENT
END:VCALENDAR