BEGIN:VCALENDAR
VERSION:2.0
PRODID:-//Africa Expo&#039;s - Sip, Savor and Explore - ECPv6.15.20//NONSGML v1.0//EN
CALSCALE:GREGORIAN
METHOD:PUBLISH
X-WR-CALNAME:Africa Expo&#039;s - Sip, Savor and Explore
X-ORIGINAL-URL:https://africa-expos.com
X-WR-CALDESC:Events for Africa Expo&#039;s - Sip, Savor and Explore
REFRESH-INTERVAL;VALUE=DURATION:PT1H
X-Robots-Tag:noindex
X-PUBLISHED-TTL:PT1H
BEGIN:VTIMEZONE
TZID:Africa/Johannesburg
BEGIN:STANDARD
TZOFFSETFROM:+0200
TZOFFSETTO:+0200
TZNAME:SAST
DTSTART:20250101T000000
END:STANDARD
END:VTIMEZONE
BEGIN:VEVENT
DTSTART;VALUE=DATE:20260529
DTEND;VALUE=DATE:20260531
DTSTAMP:20260421T165626
CREATED:20260116T092606Z
LAST-MODIFIED:20260127T132101Z
UID:20429-1780012800-1780185599@africa-expos.com
SUMMARY:29 - 30 May 2026 Ongwediva Wine Show
DESCRIPTION:Experience the essence of wine and culture at the Ongwediva Wine Expo in Namibia\, a celebration of fine wines\, vibrant traditions\, and the people who make it all possible.\nThis unique event brings together wine enthusiasts\, connoisseurs\, and curious newcomers to savor exceptional wines from across Africa and beyond. More than just a tasting\, the expo highlights the artistry\, stories and cultural connections behind every bottle\, creating an atmosphere of warmth\, celebration and appreciation for the finer things in life. \nRSVP
URL:https://africa-expos.com/event/29-30-may-2026-ongwediva-wine-show/
CATEGORIES:Year 2026
ATTACH;FMTTYPE=image/jpeg:https://africa-expos.com/wp-content/uploads/2026/01/Ongwediva-Wine-Show.jpg
ORGANIZER;CN="Africa Expos":MAILTO:Info@africa-expos.com
END:VEVENT
END:VCALENDAR