BEGIN:VCALENDAR
VERSION:2.0
PRODID:-//Africa Expo&#039;s - Sip, Savor and Explore - ECPv6.15.20//NONSGML v1.0//EN
CALSCALE:GREGORIAN
METHOD:PUBLISH
X-WR-CALNAME:Africa Expo&#039;s - Sip, Savor and Explore
X-ORIGINAL-URL:https://africa-expos.com
X-WR-CALDESC:Events for Africa Expo&#039;s - Sip, Savor and Explore
REFRESH-INTERVAL;VALUE=DURATION:PT1H
X-Robots-Tag:noindex
X-PUBLISHED-TTL:PT1H
BEGIN:VTIMEZONE
TZID:Africa/Johannesburg
BEGIN:STANDARD
TZOFFSETFROM:+0200
TZOFFSETTO:+0200
TZNAME:SAST
DTSTART:20240101T000000
END:STANDARD
END:VTIMEZONE
BEGIN:VEVENT
DTSTART;VALUE=DATE:20250328
DTEND;VALUE=DATE:20250330
DTSTAMP:20260424T014317
CREATED:20241108T170230Z
LAST-MODIFIED:20260116T111029Z
UID:20140-1743120000-1743292799@africa-expos.com
SUMMARY:28 - 29 March Mozambique Wine Show
DESCRIPTION:This Wine Show is Mozambique’s premier wine event\, bringing together wine lovers\, industry experts and renowned winemakers for an unforgettable experience of tasting\, learning\, and discovery. Visitors can enjoy wine tastings\, attend masterclasses led by sommeliers and explore food pairings that celebrate Mozambique’s unique culinary flavours. Whether you’re a seasoned wine enthusiast or simply curious\, the Mozambique Wine Show promises a vibrant atmosphere that celebrates the exploration of South African wines in the most picturesque of scenes.
URL:https://africa-expos.com/event/28-29-march-mozambique-wine-show/
CATEGORIES:Year 2025
ATTACH;FMTTYPE=image/jpeg:https://africa-expos.com/wp-content/uploads/2021/08/Mozambique-Wine-Show-2.jpg
ORGANIZER;CN="Africa Expos":MAILTO:Info@africa-expos.com
END:VEVENT
END:VCALENDAR