BEGIN:VCALENDAR
VERSION:2.0
PRODID:-//Africa Expo&#039;s - Sip, Savor and Explore - ECPv6.15.20//NONSGML v1.0//EN
CALSCALE:GREGORIAN
METHOD:PUBLISH
X-ORIGINAL-URL:https://africa-expos.com
X-WR-CALDESC:Events for Africa Expo&#039;s - Sip, Savor and Explore
REFRESH-INTERVAL;VALUE=DURATION:PT1H
X-Robots-Tag:noindex
X-PUBLISHED-TTL:PT1H
BEGIN:VTIMEZONE
TZID:Africa/Johannesburg
BEGIN:STANDARD
TZOFFSETFROM:+0200
TZOFFSETTO:+0200
TZNAME:SAST
DTSTART:20250101T000000
END:STANDARD
END:VTIMEZONE
BEGIN:VEVENT
DTSTART;VALUE=DATE:20260603
DTEND;VALUE=DATE:20260607
DTSTAMP:20260421T181743
CREATED:20260116T094116Z
LAST-MODIFIED:20260121T114258Z
UID:20437-1780444800-1780790399@africa-expos.com
SUMMARY:3 - 6 June 2026 Windhoek Wine Show
DESCRIPTION:Indulge in the ultimate wine tasting journey at the Windhoek Wine Experience\, Namibia’s premier event for discerning wine and food lovers. Discover exceptional wines from renowned vineyards and embark on a journey of taste and elegance. With curated tastings and a sophisticated ambiance\, this wine show promises an immersive experience that celebrates the artistry of wine. \nRSVP
URL:https://africa-expos.com/event/3-6-june-2026-windhoek-wine-show/
CATEGORIES:Year 2026
ATTACH;FMTTYPE=image/jpeg:https://africa-expos.com/wp-content/uploads/2020/05/Windhoek-Wine-Show-2.jpg
ORGANIZER;CN="Africa Expos":MAILTO:Info@africa-expos.com
END:VEVENT
BEGIN:VEVENT
DTSTART;VALUE=DATE:20260904
DTEND;VALUE=DATE:20260906
DTSTAMP:20260421T181743
CREATED:20260116T095315Z
LAST-MODIFIED:20260128T061027Z
UID:20440-1788480000-1788652799@africa-expos.com
SUMMARY:4 - 5 September 2026 Swakopmund Wine Show
DESCRIPTION:Be part of the Swakopmund Wine Show\, a standout event where business and fine wine meet. This leading showcase attracts professionals\, entrepreneurs\, and innovators from across Namibia and further afield\, creating a vibrant space for meaningful connections and fresh ideas. Discover an impressive selection of wine exhibitors\, engage with key industry figures\, and stay up to date with the latest products\, services\, and market insights. If you’re aiming to grow your network\, spark new collaborations\, or uncover business opportunities\, the Swakopmund Wine Show is an event every business-minded professional should have on their calendar. \nRSVP
URL:https://africa-expos.com/event/4-5-september-2026-swakopmund-wine-show/
CATEGORIES:Year 2026
ATTACH;FMTTYPE=image/jpeg:https://africa-expos.com/wp-content/uploads/2026/01/Swakopmund-Wine-Show-1.jpg
ORGANIZER;CN="Africa Expos":MAILTO:Info@africa-expos.com
END:VEVENT
END:VCALENDAR