BEGIN:VCALENDAR
VERSION:2.0
PRODID:-//Africa Expo&#039;s - Sip, Savor and Explore - ECPv6.15.20//NONSGML v1.0//EN
CALSCALE:GREGORIAN
METHOD:PUBLISH
X-ORIGINAL-URL:https://africa-expos.com
X-WR-CALDESC:Events for Africa Expo&#039;s - Sip, Savor and Explore
REFRESH-INTERVAL;VALUE=DURATION:PT1H
X-Robots-Tag:noindex
X-PUBLISHED-TTL:PT1H
BEGIN:VTIMEZONE
TZID:Africa/Johannesburg
BEGIN:STANDARD
TZOFFSETFROM:+0200
TZOFFSETTO:+0200
TZNAME:SAST
DTSTART:20240101T000000
END:STANDARD
END:VTIMEZONE
BEGIN:VEVENT
DTSTART;VALUE=DATE:20250404
DTEND;VALUE=DATE:20250406
DTSTAMP:20260423T222718
CREATED:20241110T121257Z
LAST-MODIFIED:20260116T111148Z
UID:18399-1743724800-1743897599@africa-expos.com
SUMMARY:4 - 5 April Zimbabwe Wine Show
DESCRIPTION:Join us at the Zimbabwe Wine Show; Harare’s premier business networking and showcase event! This dynamic tradeshow brings together industries\, innovators and entrepreneurs from across Zambia and beyond\, offering unmatched opportunities for collaboration\, learning\, and growth. Explore a wide array of winery exhibits and connect with industry leaders as you discover new products\, services and market trends. Whether you’re looking to expand your business or explore new partnerships\, the Zimbabwe Wine Show is the place to be.
URL:https://africa-expos.com/event/4-5-april-zimbabwe-wine-show/
CATEGORIES:Year 2025
ATTACH;FMTTYPE=image/jpeg:https://africa-expos.com/wp-content/uploads/2021/08/Harare-Wine-Show.jpg
ORGANIZER;CN="Africa Expos":MAILTO:Info@africa-expos.com
END:VEVENT
BEGIN:VEVENT
DTSTART;VALUE=DATE:20250411
DTEND;VALUE=DATE:20250413
DTSTAMP:20260423T222718
CREATED:20241109T121033Z
LAST-MODIFIED:20260116T111223Z
UID:18394-1744329600-1744502399@africa-expos.com
SUMMARY:11 - 12 April Botswana Wine Show
DESCRIPTION:The Botswana Wine Experience is an exclusive annual event that brings the rich flavours of South African wines to the heart of Botswana. This event invites wine enthusiasts\, connoisseurs\, and newcomers alike to explore an extensive selection of South Africa’s finest wines. Attendees can enjoy curated wine tastings\, expert-led masterclasses and food pairings that highlight the distinct character of each wine region. The Botswana Wine Experience is a must-attend event for anyone looking to savor the diverse wines of South Africa in a relaxed and welcoming setting. \nRSVP
URL:https://africa-expos.com/event/11-12-april-botswana-wine-show/
CATEGORIES:Year 2025
ATTACH;FMTTYPE=image/jpeg:https://africa-expos.com/wp-content/uploads/2021/08/africa-expos-1-2.jpg
ORGANIZER;CN="Africa Expos":MAILTO:Info@africa-expos.com
END:VEVENT
END:VCALENDAR